BEGIN:VCALENDAR
VERSION:2.0
PRODID:-//Hummingbird Wings - ECPv4.1.0.1//NONSGML v1.0//EN
CALSCALE:GREGORIAN
METHOD:PUBLISH
X-WR-CALNAME:Hummingbird Wings
X-ORIGINAL-URL:http://hummingbirdwings.com
X-WR-CALDESC:Events for Hummingbird Wings
BEGIN:VEVENT
DTSTART;TZID="America/Phoenix":20170218T130000
DTEND;TZID="America/Phoenix":20170218T160000
DTSTAMP:20260419T132921
CREATED:20161209T163541
LAST-MODIFIED:20220221T194935
UID:962-1487422800-1487433600@hummingbirdwings.com
SUMMARY:Ascended Master Class
DESCRIPTION:In this class you will learn who the Masters are and how incorporate the Masters into your life. In a meditation I will guide you to connect with one or more of these Masters and you will see who resonates most closely with you.\n\nTo register for this class please contact Denise at Rising Spiritualist Church @ 623-398-5599.
URL:http://hummingbirdwings.com/event/ascended-master-class/
LOCATION:1522 W. Encanto Blvd.\, Phoenix\, 85007\, United States
CATEGORIES:Class
END:VEVENT
END:VCALENDAR