BEGIN:VCALENDAR
VERSION:2.0
PRODID:-//Hummingbird Wings - ECPv4.1.0.1//NONSGML v1.0//EN
CALSCALE:GREGORIAN
METHOD:PUBLISH
X-WR-CALNAME:Hummingbird Wings
X-ORIGINAL-URL:http://hummingbirdwings.com
X-WR-CALDESC:Events for Hummingbird Wings
BEGIN:VEVENT
DTSTART;TZID="America/Phoenix":20150418T090000
DTEND;TZID="America/Phoenix":20150418T110000
DTSTAMP:20260419T222237
CREATED:20150202T204926
LAST-MODIFIED:20150409T195757
UID:519-1429347600-1429354800@hummingbirdwings.com
SUMMARY:Communing with Nature (Hike & Meditation)
DESCRIPTION:Allow the elementals of the desert to integrate with our mind\, body\, spirit.\n\nCommuning with Nature is about connecting and feeling the oneness that already exists between us humans and the natural world around us. Nature is an under utilized powerful force that assist us in getting in touch with our true selves and tapping into the web of energy of all that is. It is a catalyst for change\, peace\, energetic clearing\, purifying our body\, mind and spirit\, healing self and the collective consciousness of all there is.\n\nIn the group meditation we will identify our individual spirit animal and learn about the qualities this animal possesses and symbolizes that can assist us in our everyday lives.\n\nPlease wear comfortable clothes and bring water.\n\n \n\nSchedule\n\nMeet at 9:00am in the Parking Lot\n\nGroup saging &  grounding\n\nTrail walk\, easy level\n\nSpirit Animal & Elemental Meditation\n\nLearn how to and practice exchanging energy with Nature\n\n \n\nDirections\n\nTake US-60 East\n\nTake exit 196196 for AZ-88 E/Idaho Rd\n\nTurn left on to AZ-88 E/Idaho Rd\n\nSlight right onto AZ-88 E/Apache Trail\n\nTurn right onto N First Water Rd\n\nSrv Rd 78\, Arizona 85219\n\n \n\nTo RSVP or for more information about this event\, please contact Joy Sackstein.
URL:http://hummingbirdwings.com/event/communing-nature/
LOCATION:Srv Road 78\, Superstition Mountains\, 85219\, United States
CATEGORIES:Event
END:VEVENT
END:VCALENDAR