BEGIN:VCALENDAR
VERSION:2.0
PRODID:-//Hummingbird Wings - ECPv4.1.0.1//NONSGML v1.0//EN
CALSCALE:GREGORIAN
METHOD:PUBLISH
X-WR-CALNAME:Hummingbird Wings
X-ORIGINAL-URL:http://hummingbirdwings.com
X-WR-CALDESC:Events for Hummingbird Wings
BEGIN:VEVENT
DTSTART;TZID="America/Phoenix":20150220T183000
DTEND;TZID="America/Phoenix":20150220T203000
DTSTAMP:20260419T174346
CREATED:20150202T205342
LAST-MODIFIED:20150217T233601
UID:522-1424457000-1424464200@hummingbirdwings.com
SUMMARY:Creating a New World - Conversations with the Masters
DESCRIPTION:Come and enjoy us for an evening with the Masters including Kwan Yin\, Kuthumi\, Sanat Kumara\, Sananda\, Hilarion and a few others who might come to play.\n\nThis evening will include discussions surrounding the planetary state\, inspirations for your own transformative journey and creating a new world. There will be a question and answer period in which you may ask your own questions of the Masters.\n\n \n\nTo RSVP or for more information about this event\, please contact Joy Sackstein.
URL:http://hummingbirdwings.com/event/creating-new-world-conversations-masters/
LOCATION:Call or email for address\, Gilbert\, AZ\, United States
CATEGORIES:Class
END:VEVENT
END:VCALENDAR