BEGIN:VCALENDAR
VERSION:2.0
PRODID:-//Hummingbird Wings - ECPv4.1.0.1//NONSGML v1.0//EN
CALSCALE:GREGORIAN
METHOD:PUBLISH
X-WR-CALNAME:Hummingbird Wings
X-ORIGINAL-URL:http://hummingbirdwings.com
X-WR-CALDESC:Events for Hummingbird Wings
BEGIN:VEVENT
DTSTART;TZID="America/Phoenix":20170130T190000
DTEND;TZID="America/Phoenix":20170130T210000
DTSTAMP:20260419T132957
CREATED:20161209T163257
LAST-MODIFIED:20220221T194952
UID:960-1485802800-1485810000@hummingbirdwings.com
SUMMARY:Generating Protection
DESCRIPTION:This class will focus on how to ground and protect all energy fields for all lightworkers\, bodyworkers\, readers\, spiritual advisors\, etc. And\, how to bring the 22 strands of DNA together for this purpose.\n\nTo register for this class please contact Denise at Rising Spiritualist Church @ 623-398-5599.
URL:http://hummingbirdwings.com/event/generating-protection/
LOCATION:1522 W. Encanto Blvd.\, Phoenix\, 85007\, United States
CATEGORIES:Class
END:VEVENT
END:VCALENDAR