BEGIN:VCALENDAR
VERSION:2.0
PRODID:-//Hummingbird Wings - ECPv4.1.0.1//NONSGML v1.0//EN
CALSCALE:GREGORIAN
METHOD:PUBLISH
X-WR-CALNAME:Hummingbird Wings
X-ORIGINAL-URL:http://hummingbirdwings.com
X-WR-CALDESC:Events for Hummingbird Wings
BEGIN:VEVENT
DTSTART;TZID="America/Phoenix":20150701T183000
DTEND;TZID="America/Phoenix":20150701T210000
DTSTAMP:20260419T192415
CREATED:20150613T182059
LAST-MODIFIED:20150613T182059
UID:778-1435775400-1435784400@hummingbirdwings.com
SUMMARY:Goddess Moon Ceremony - Full Moon in Capricorn 
DESCRIPTION:We gather to celebrate the Full Moon in Capricorn. This is a time to release all that no longer serves you.\n\nWe are a large group of women from across the valley who gather together to celebrate the moon cycles and support each other in a safe\, loving\, environment. We will begin with a discussion about the Full Moon in Capricorn and what that astrologically means for you followed by a group guided meditation\, fire pit ceremony and healing circle.\n\nThere is no charge for this event but love donations are accepted and appreciated.
URL:http://hummingbirdwings.com/event/goddess-moon-ceremony-full-moon-in-capricorn/
LOCATION:Call or email for address\, Gilbert\, AZ\, United States
CATEGORIES:Ceremony,Event
END:VEVENT
END:VCALENDAR