BEGIN:VCALENDAR
VERSION:2.0
PRODID:-//Hummingbird Wings - ECPv4.1.0.1//NONSGML v1.0//EN
CALSCALE:GREGORIAN
METHOD:PUBLISH
X-WR-CALNAME:Hummingbird Wings
X-ORIGINAL-URL:http://hummingbirdwings.com
X-WR-CALDESC:Events for Hummingbird Wings
BEGIN:VEVENT
DTSTART;TZID="America/Phoenix":20150927T180000
DTEND;TZID="America/Phoenix":20150927T200000
DTSTAMP:20260419T190846
CREATED:20150804T150257
LAST-MODIFIED:20150804T150257
UID:787-1443376800-1443384000@hummingbirdwings.com
SUMMARY:Goddess Moon Ceremony - Full Moon Total Lunar Super Moon Eclipse in Aries
DESCRIPTION:We gather to celebrate the Full Moon Total Lunar Super Moon Eclipse in Aries. This is a time to release all that no longer serves you.\n\nWe are a large group of women from across the valley who gather together to celebrate the moon cycles and support each other in a safe\, loving\, environment. We will begin with a discussion about the Full Moon in Aries and what that astrologically means for you followed by a group guided meditation\, fire pit ceremony and healing circle.\n\nThere is no charge for this event but love donations are accepted and appreciated.
URL:http://hummingbirdwings.com/event/goddess-moon-ceremony-full-moon-total-lunar-super-moon-eclipse-in-aries/
LOCATION:Call or email for address\, Gilbert\, AZ\, United States
CATEGORIES:Ceremony
END:VEVENT
END:VCALENDAR