BEGIN:VCALENDAR
VERSION:2.0
PRODID:-//Hummingbird Wings - ECPv4.1.0.1//NONSGML v1.0//EN
CALSCALE:GREGORIAN
METHOD:PUBLISH
X-WR-CALNAME:Hummingbird Wings
X-ORIGINAL-URL:http://hummingbirdwings.com
X-WR-CALDESC:Events for Hummingbird Wings
BEGIN:VEVENT
DTSTART;TZID="America/Phoenix":20150829T180000
DTEND;TZID="America/Phoenix":20150829T200000
DTSTAMP:20260419T191806
CREATED:20150804T150119
LAST-MODIFIED:20150804T150119
UID:785-1440871200-1440878400@hummingbirdwings.com
SUMMARY:Goddess Moon Ceremony - Full Super Moon in Pisces
DESCRIPTION:We gather to celebrate the Full Super Moon in Pisces. This is a time to release all that no longer serves you.\n\nWe are a large group of women from across the valley who gather together to celebrate the moon cycles and support each other in a safe\, loving\, environment. We will begin with a discussion about the Full Moon in Pisces and what that astrologically means for you followed by a group guided meditation\, fire pit ceremony and healing circle.\n\nThere is no charge for this event but love donations are accepted and appreciated.
URL:http://hummingbirdwings.com/event/goddess-moon-ceremony-full-super-moon-in-pisces/
LOCATION:Call or email for address\, Gilbert\, AZ\, United States
CATEGORIES:Ceremony
END:VEVENT
END:VCALENDAR