BEGIN:VCALENDAR
VERSION:2.0
PRODID:-//Hummingbird Wings - ECPv4.1.0.1//NONSGML v1.0//EN
CALSCALE:GREGORIAN
METHOD:PUBLISH
X-WR-CALNAME:Hummingbird Wings
X-ORIGINAL-URL:http://hummingbirdwings.com
X-WR-CALDESC:Events for Hummingbird Wings
BEGIN:VEVENT
DTSTART;TZID="America/Phoenix":20150218T183000
DTEND;TZID="America/Phoenix":20150218T203000
DTSTAMP:20260419T204038
CREATED:20150202T211659
LAST-MODIFIED:20150203T173659
UID:524-1424284200-1424291400@hummingbirdwings.com
SUMMARY:Goddess Moon Ceremony – New Moon in Aquarius 
DESCRIPTION:We gather to celebrate the New Moon in Aquarius. This is a time to bring forth all you wish to receive.\n\nWe are a large group of women from across the valley who gather together to celebrate the moon cycles and support each other in a safe\, loving\, environment. We will begin with a discussion about the New Moon in Aquarius and what that astrologically means for you followed by a group guided meditation\, fire pit ceremony and healing circle.\n\nThere is no charge for this event but love donations are accepted and appreciated.\n\n \n\nTo RSVP or for more information about this event\, please contact Joy Sackstein.
URL:http://hummingbirdwings.com/event/goddess-moon-ceremony-new-moon-aquarius/
LOCATION:Call or email for address\, Gilbert\, AZ\, United States
CATEGORIES:Ceremony,Event
END:VEVENT
END:VCALENDAR