BEGIN:VCALENDAR
VERSION:2.0
PRODID:-//Hummingbird Wings - ECPv4.1.0.1//NONSGML v1.0//EN
CALSCALE:GREGORIAN
METHOD:PUBLISH
X-WR-CALNAME:Hummingbird Wings
X-ORIGINAL-URL:http://hummingbirdwings.com
X-WR-CALDESC:Events for Hummingbird Wings
BEGIN:VEVENT
DTSTART;TZID="America/Phoenix":20150814T183000
DTEND;TZID="America/Phoenix":20150814T203000
DTSTAMP:20260419T190706
CREATED:20150804T150033
LAST-MODIFIED:20150804T150033
UID:784-1439577000-1439584200@hummingbirdwings.com
SUMMARY:Goddess Moon Ceremony - New Moon in Leo
DESCRIPTION:We gather to celebrate the New Moon in Leo. This is a time to bring forth all you wish to receive.\n\nWe are a large group of women from across the valley who gather together to celebrate the moon cycles and support each other in a safe\, loving\, environment. We will begin with a discussion about the New Moon in Leo and what that astrologically means for you followed by a group guided meditation\, fire pit ceremony and healing circle.\n\nThere is no charge for this event but love donations are accepted and appreciated.
URL:http://hummingbirdwings.com/event/goddess-moon-ceremony-new-moon-in-leo/
LOCATION:Call or email for address\, Gilbert\, AZ\, United States
CATEGORIES:Ceremony
END:VEVENT
END:VCALENDAR