BEGIN:VCALENDAR
VERSION:2.0
PRODID:-//Hummingbird Wings - ECPv4.1.0.1//NONSGML v1.0//EN
CALSCALE:GREGORIAN
METHOD:PUBLISH
X-WR-CALNAME:Hummingbird Wings
X-ORIGINAL-URL:http://hummingbirdwings.com
X-WR-CALDESC:Events for Hummingbird Wings
BEGIN:VEVENT
DTSTART;VALUE=DATE:20170209
DTEND;VALUE=DATE:20170212
DTSTAMP:20260419T133135
CREATED:20161111
LAST-MODIFIED:20220221
UID:920-1486598400-1486943999@hummingbirdwings.com
SUMMARY:Own Your Divine Feminine - Women's Spiritual Retreat Kauai\, HI
DESCRIPTION:Feb. 9-12\, 2017\n\nOWN YOUR DIVINE FEMININE - Women’s Spiritual Retreat Kauai\, HI\n\nJoin us for a magical trip to Kauai\, HI to play\, heal\, free\, and own your divine feminine! This will be an intimate weekend retreat where we will release all that binds us and become free to experience joy\, peace\, love and play. Kauai embodies Source energy\, so be ready for miracles. Joy Sackstein\, Renee Janton and the wild dolphins\, whales\, and sea turtles will be our guides. In the water we will take an interdimensional journey through the eyes of these spectacular beings and enter into their world. There we will become free and actualized. Space is limited to 12 spots\, register today!\n\nIncludes: 4 Days/3 Nights in Kauai\, HI\, Room Share Lodging\, Meals & Transportation\,  Daily Meditations & Grounding\, Full Moon in Leo Celebration & Water Ceremony\, Swimming with Dolphins & Sea Turtles\, Dinner Cruise\, Location Walking Distance from Poipu Beach.\n\nFor questions or additional information\, please reach out to Joy Sackstein directly.\n\n 
URL:http://hummingbirdwings.com/event/hawaiian-sacred-womens-retreat/
CATEGORIES:Retreat
END:VEVENT
END:VCALENDAR