BEGIN:VCALENDAR
VERSION:2.0
PRODID:-//Hummingbird Wings - ECPv4.1.0.1//NONSGML v1.0//EN
CALSCALE:GREGORIAN
METHOD:PUBLISH
X-WR-CALNAME:Hummingbird Wings
X-ORIGINAL-URL:http://hummingbirdwings.com
X-WR-CALDESC:Events for Hummingbird Wings
BEGIN:VEVENT
DTSTART;TZID="America/Phoenix":20250118T120000
DTEND;TZID="America/Phoenix":20250118T140000
DTSTAMP:20260419T120536
CREATED:20250114T233152
LAST-MODIFIED:20250114T233152
UID:1329-1737201600-1737208800@hummingbirdwings.com
SUMMARY:Healing with Horses
DESCRIPTION:\n\nJoin us in an educational and interactive healing session with Joy Sackstein of Divine Oneness and Angela Schmit of Healing Hearts Animal Rescue and Refugee.  Also\, generously some of our local beloved Salt River Wild Horse Photographers will be donating an art piece for raffle.  The time has come that we get together to preserve the future of the connection of us all.  (One raffle ticket per museum entry fee)
URL:http://hummingbirdwings.com/event/healing-with-horses/
LOCATION:Fountain Hill 
END:VEVENT
END:VCALENDAR