BEGIN:VCALENDAR
VERSION:2.0
PRODID:-//Hummingbird Wings - ECPv4.1.0.1//NONSGML v1.0//EN
CALSCALE:GREGORIAN
METHOD:PUBLISH
X-WR-CALNAME:Hummingbird Wings
X-ORIGINAL-URL:http://hummingbirdwings.com
X-WR-CALDESC:Events for Hummingbird Wings
BEGIN:VEVENT
DTSTART;TZID="America/Phoenix":20160113T183000
DTEND;TZID="America/Phoenix":20160113T210000
DTSTAMP:20260419T160241
CREATED:20160103T015830
LAST-MODIFIED:20220221T195113
UID:887-1452709800-1452718800@hummingbirdwings.com
SUMMARY:Reiki Share
DESCRIPTION:Come experience the loving energy of Reiki and meet like minded friends. All levels are welcome. There is no requirement to receive Reiki but an open heart and mind. To share Reiki we do ask that you are attuned to Level 2 or above.\n\nWe offer monthly Reiki shares where you can come to share and receive Reiki  in a comfortable place with wonderful\, loving energy.\n\nPlease wear comfortable clothes.
URL:http://hummingbirdwings.com/event/january132016/
LOCATION:Call or email for address\, Gilbert\, AZ\, United States
CATEGORIES:Event
END:VEVENT
END:VCALENDAR