BEGIN:VCALENDAR
VERSION:2.0
PRODID:-//Hummingbird Wings - ECPv4.1.0.1//NONSGML v1.0//EN
CALSCALE:GREGORIAN
METHOD:PUBLISH
X-WR-CALNAME:Hummingbird Wings
X-ORIGINAL-URL:http://hummingbirdwings.com
X-WR-CALDESC:Events for Hummingbird Wings
BEGIN:VEVENT
DTSTART;TZID="America/Phoenix":20160123T180000
DTEND;TZID="America/Phoenix":20160123T200000
DTSTAMP:20260419T161134
CREATED:20160103T015404
LAST-MODIFIED:20220221T195059
UID:886-1453572000-1453579200@hummingbirdwings.com
SUMMARY:Goddess Moon Ceremony - Full Moon in Leo
DESCRIPTION:We gather to celebrate the Full Moon in Leo. This is a time to release all that no longer serves you.\n\nThis moon is all about going into the darkness and taking a look at where the darkness has taken over your sun. Coming out into the world is what is natural for you Leos. Know that you are divinely protected and that you need to go inward to take a look at what needs to leave your life so that you can move forward and enjoy the gifts that the universe wants to provide for you. Getting out of self is what the Leo does. It is necessary to pull in the energy and look at what no longer serves so that you are not shooting yourself in the foot. Sabotage is one of Leo's greatest deficit because of the fear of change. Change is imminent so get with the program.\n\nWe are a large group of women from across the valley who gather together to celebrate the moon cycles and support each other in a safe\, loving\, environment. We will begin with a discussion about the Full Moon in Leo and what that astrologically means for you followed by a group guided meditation\, fire pit ceremony and healing circle.\n\nThere is no charge for this event but love donations are accepted and appreciated.
URL:http://hummingbirdwings.com/event/january232016/
LOCATION:Call or email for address\, Gilbert\, AZ\, United States
CATEGORIES:Ceremony,Event
END:VEVENT
END:VCALENDAR