BEGIN:VCALENDAR
VERSION:2.0
PRODID:-//Hummingbird Wings - ECPv4.1.0.1//NONSGML v1.0//EN
CALSCALE:GREGORIAN
METHOD:PUBLISH
X-WR-CALNAME:Hummingbird Wings
X-ORIGINAL-URL:http://hummingbirdwings.com
X-WR-CALDESC:Events for Hummingbird Wings
BEGIN:VEVENT
DTSTART;TZID="America/Phoenix":20151115T100000
DTEND;TZID="America/Phoenix":20151115T140000
DTSTAMP:20260419T174345
CREATED:20151016T185149
LAST-MODIFIED:20220221T195126
UID:798-1447581600-1447596000@hummingbirdwings.com
SUMMARY:Learn how to live the Medicine Wheel
DESCRIPTION:The Medicine Wheel has been used by generations of various Native American tribes for health and healing. It embodies the Four Directions\, as well as Father Sky and Mother Earth—all of which symbolize dimensions of health and the cycles of life.\n\nIn this class we will learn about the Traditional Native American Cree Medicine Wheel and how to incorporate it into our life. We will learn what each direction represents and how to work with it. We will learn how to walk a medicine wheel and create a Native American Prayer Tie for blessings for our ancestors or ourselves.\n\nPlease bring a snack\, water and notebook for the class.
URL:http://hummingbirdwings.com/event/november152015/
LOCATION:Call or email for address\, Gilbert\, AZ\, United States
END:VEVENT
END:VCALENDAR