BEGIN:VCALENDAR
VERSION:2.0
PRODID:-//Hummingbird Wings - ECPv4.1.0.1//NONSGML v1.0//EN
CALSCALE:GREGORIAN
METHOD:PUBLISH
X-WR-CALNAME:Hummingbird Wings
X-ORIGINAL-URL:http://hummingbirdwings.com
X-WR-CALDESC:Events for Hummingbird Wings
BEGIN:VEVENT
DTSTART;TZID="America/Phoenix":20150501T190000
DTEND;TZID="America/Phoenix":20150503T150000
DTSTAMP:20260419T221830
CREATED:20150428T033847
LAST-MODIFIED:20150428T033847
UID:770-1430506800-1430665200@hummingbirdwings.com
SUMMARY:Reiki Level 1 Certification (Weekend Training Course)
DESCRIPTION:Reiki (pronounced Ray Key) is a combination of two Japanese words Rei and Ki meaning universal life force energy. Reiki is an ancient laying-on of hands healing technique that uses the life force energy to heal\, balancing the subtle energies within our bodies. Reiki addresses physical\, emotional\, mental and spiritual imbalances.\n\nIn this weekend training course you'll learn about the history of Reiki\, the Reiki principles\, what Reiki/life force energy is\, how to cultivate Reiki energy and how to heal yourself.\n\nStudents will receive Level 1 Certification in both the Usui Shiki Ryoho & Sei-Chem Tibetan methods.\n\nAll 3 days must be attended to become eligible for Reiki Level 2 Training that will be offered later this year.\n\n \n\nSchedule:\n\nMay 1  Introduction  7:00pm-9:00pm\n\nMay 2 Training  10:00am-6:00pm\n\nMay 3 Training  10:00am-3:00pm\n\n \n\nPrerequisites: None\n\nCost for this weekend training course is $175. The fee is due on the first night of the class. Refunds will not be available after the start of the class.
URL:http://hummingbirdwings.com/event/reiki-level-1-certification-weekend-training-course/
LOCATION:Call or email for address\, Gilbert\, AZ\, United States
END:VEVENT
END:VCALENDAR